BEGIN:VCALENDAR
VERSION:2.0
PRODID:-//Internationale Wochen gegen Rassismus in Duisburg - ECPv6.15.19//NONSGML v1.0//EN
CALSCALE:GREGORIAN
METHOD:PUBLISH
X-WR-CALNAME:Internationale Wochen gegen Rassismus in Duisburg
X-ORIGINAL-URL:https://iwgrdu.de
X-WR-CALDESC:Veranstaltungen für Internationale Wochen gegen Rassismus in Duisburg
REFRESH-INTERVAL;VALUE=DURATION:PT1H
X-Robots-Tag:noindex
X-PUBLISHED-TTL:PT1H
BEGIN:VTIMEZONE
TZID:Europe/Berlin
BEGIN:DAYLIGHT
TZOFFSETFROM:+0100
TZOFFSETTO:+0200
TZNAME:CEST
DTSTART:20250330T010000
END:DAYLIGHT
BEGIN:STANDARD
TZOFFSETFROM:+0200
TZOFFSETTO:+0100
TZNAME:CET
DTSTART:20251026T010000
END:STANDARD
BEGIN:DAYLIGHT
TZOFFSETFROM:+0100
TZOFFSETTO:+0200
TZNAME:CEST
DTSTART:20260329T010000
END:DAYLIGHT
BEGIN:STANDARD
TZOFFSETFROM:+0200
TZOFFSETTO:+0100
TZNAME:CET
DTSTART:20261025T010000
END:STANDARD
BEGIN:DAYLIGHT
TZOFFSETFROM:+0100
TZOFFSETTO:+0200
TZNAME:CEST
DTSTART:20270328T010000
END:DAYLIGHT
BEGIN:STANDARD
TZOFFSETFROM:+0200
TZOFFSETTO:+0100
TZNAME:CET
DTSTART:20271031T010000
END:STANDARD
END:VTIMEZONE
BEGIN:VEVENT
DTSTART;TZID=Europe/Berlin:20260318T173000
DTEND;TZID=Europe/Berlin:20260318T203000
DTSTAMP:20260420T161451
CREATED:20260210T100047Z
LAST-MODIFIED:20260306T124317Z
UID:3591-1773855000-1773865800@iwgrdu.de
SUMMARY:Interkultureller Fastenbrechen-Abend
DESCRIPTION:Einladung zum Fastenbrechen-Abend \nIm Rahmen der Internationalen Wochen gegen Rassismus laden wir alle Bürger*innen herzlich zu einem gemeinsamen Fastenbrechen-Abend im Internationalen Zentrum ein.  \nDie Veranstaltung wird gemeinsam mit Migrantinnenselbstorganisationen\, Initiativen und Gruppen des Internationalen Zentrums gestaltet. Gemeinsam möchten wir zeigen\, wie kulturelle Vielfalt unsere Stadt bereichert\, Vorurteile abbauen und Begegnungen zwischen Menschen unterschiedlicher Herkunft fördern können. Der Abend bietet die Möglichkeit\, ins Gespräch zu kommen\, andere Perspektiven kennenzulernen und in entspannter Atmosphäre ein Stück gelebte Vielfalt zu erleben.  \nKommen Sie vorbei\, tauschen Sie sich aus und genießen Sie einen Abend voller Austausch\, Gemeinschaft und kulinarischer Vielfalt.  \nFür Verpflegung ist gesorgt\, wir freuen uns auf Ihr Kommen!  \nWenn Ihre Gruppe oder Organisation sich an der Gestaltung des Abends beteiligen und ein eigenes Angebot einbringen möchte\, melden Sie sich gerne bei Kadir Özdemir: k.oezdemir@stadt-duisburg.de 0203 283 985 344 \n\n        \n            \n                                                \n\n                                        \n                        Fastenbrechen_210325_1Fastenbrechen_210325_2Fastenbrechen_210325_3Fastenbrechen_210325_4Fastenbrechen_210325_5Fastenbrechen_210325_6Fastenbrechen_210325_79                    \n\n                                    \n            \n        \n        \nSo war unser gemeinsames Fastenbrechen am 21.03.2025 im Internationalen Zentrum.
URL:https://iwgrdu.de/event/interkultureller-fastenbrechen-abend/
LOCATION:Internationales Zentrum (IZ)\, Flachsmarkt 15\, Duisburg\, NRW\, 47051\, Germany
CATEGORIES:Events 2026,Inhouse IZ 2026
ORGANIZER;CN="Amt f%C3%BCr Integration und Einwanderungsservice - Das Kommunale Integrationszenmtrum der Stadt Duisburg":MAILTO:integration@stadt-duisburg.de
END:VEVENT
BEGIN:VEVENT
DTSTART;TZID=Europe/Berlin:20260319T150000
DTEND;TZID=Europe/Berlin:20260319T160000
DTSTAMP:20260420T161451
CREATED:20260218T141310Z
LAST-MODIFIED:20260226T100927Z
UID:3613-1773932400-1773936000@iwgrdu.de
SUMMARY:Galaktische Lesereise mit Lale Öztürk
DESCRIPTION:Mit viel Gefühl\, Humor und lebendiger Stimme nimmt Lale Kinder mit auf eine ganz besondere Reise ins All. Ihre Art zu lesen ist mitreißend\, warm und nahbar\, sie erweckt Figuren zum Leben und schafft eine Atmosphäre\, in der Kinder ganz eintauchen können. \n„Die Schnetts und die Schmoos“ Zwei verfeindete Gruppen entdecken\, dass Unterschiede verbinden können. Freundschaft\, Mut & Zusammenhalt\, kunterbunt und voller Herz! \nIn dieser Geschichte geht es um mehr als nur zwei verschiedene Welten. Es geht um Vorurteile\, um Neugier und darum\, was passiert\, wenn man den ersten Schritt aufeinander zugeht. Spielerisch und berührend zeigt Lale\, wie aus Ablehnung Verständnis wird und aus Unterschiedlichkeit echte Verbindung entsteht. \nDie Lesung findet am 19.03.2026 von 15:00 bis 16:00 Uhr im internationalen Zentrum – IZ – statt. \nEine Lesung\, die Kinder stärkt\, zum Nachdenken anregt und gleichzeitig richtig Spaß macht.
URL:https://iwgrdu.de/event/galaktische-lesereise-mit-lale-oeztuerk/
LOCATION:Internationales Zentrum (IZ)\, Flachsmarkt 15\, Duisburg\, NRW\, 47051\, Germany
CATEGORIES:Events 2026,Inhouse IZ 2026
ATTACH;FMTTYPE=image/jpeg:https://iwgrdu.de/wp-content/uploads/2026/02/Lesung-Lale-Oeztuerk_Cover.jpg
ORGANIZER;CN="Amt f%C3%BCr Integration und Einwanderungsservice - Das Kommunale Integrationszenmtrum der Stadt Duisburg":MAILTO:integration@stadt-duisburg.de
END:VEVENT
BEGIN:VEVENT
DTSTART;TZID=Europe/Berlin:20260327T140000
DTEND;TZID=Europe/Berlin:20260327T160000
DTSTAMP:20260420T161451
CREATED:20260220T134715Z
LAST-MODIFIED:20260220T134715Z
UID:3732-1774620000-1774627200@iwgrdu.de
SUMMARY:GEMEINSAM BUNT\, VIELFALT ERLEBEN UND VORURTEILE CHECKEN
DESCRIPTION:Das Angebot richtet sich an Kinder im Alter von 6 bis 12 Jahren. \nAm Freitag\, den 27.03.26 um 14:00 Uhr führen wir die Kids über die „Geheimnisvolle Kiste“(Metaphern- Arbeit) in das Thema Vielfalt ein. Danach erstellen wir  in der“ Wappen-Werkstatt“ individuelle  Identitäts-Profile\, um die Stärken jedes Kindes sichtbar zu machen. \nWir schließen  mit einem „Entdecker-Vertrag“ ab\, der Respekt und Zusammenhalt für die gesamte Ferienwoche als feste Regeln verankert. So schaffen wir eine starke Basis für die kommende Osterferien -Projekt- Woche zum Thema: „GEMEINSAM BUNT\, VIELFALT ERLEBEN  Und  VORURTEILE  CHECKEN“ ( vom 30.März bis 02.April 2026) \nAnmeldungen zu diesem Projekt inklusive des ersten Kennenlernens am 27.03. sind notwendig\, spätestens bis zum 24.03. im JZ „Alte Schmiede“ oder der Kirchgemeinde Walsum- Aldenrade.
URL:https://iwgrdu.de/event/gemeinsam-bunt-vielfalt-erleben-und-vorurteile-checken/
LOCATION:Städtisches Kinder- und Jugendzentrum Alte Schmiede\, Schachtstraße 31\, Duisburg\, 47179\, Germany
CATEGORIES:Events 2026
ORGANIZER;CN="St%C3%A4dtisches Kinder- und Jugendzentrum Alte Schmiede":MAILTO:alteschmiede@jz.duisburg.de
END:VEVENT
END:VCALENDAR