BEGIN:VCALENDAR
VERSION:2.0
PRODID:-//Internationale Wochen gegen Rassismus in Duisburg - ECPv6.15.19//NONSGML v1.0//EN
CALSCALE:GREGORIAN
METHOD:PUBLISH
X-WR-CALNAME:Internationale Wochen gegen Rassismus in Duisburg
X-ORIGINAL-URL:https://iwgrdu.de
X-WR-CALDESC:Veranstaltungen für Internationale Wochen gegen Rassismus in Duisburg
REFRESH-INTERVAL;VALUE=DURATION:PT1H
X-Robots-Tag:noindex
X-PUBLISHED-TTL:PT1H
BEGIN:VTIMEZONE
TZID:Europe/Berlin
BEGIN:DAYLIGHT
TZOFFSETFROM:+0100
TZOFFSETTO:+0200
TZNAME:CEST
DTSTART:20250330T010000
END:DAYLIGHT
BEGIN:STANDARD
TZOFFSETFROM:+0200
TZOFFSETTO:+0100
TZNAME:CET
DTSTART:20251026T010000
END:STANDARD
BEGIN:DAYLIGHT
TZOFFSETFROM:+0100
TZOFFSETTO:+0200
TZNAME:CEST
DTSTART:20260329T010000
END:DAYLIGHT
BEGIN:STANDARD
TZOFFSETFROM:+0200
TZOFFSETTO:+0100
TZNAME:CET
DTSTART:20261025T010000
END:STANDARD
BEGIN:DAYLIGHT
TZOFFSETFROM:+0100
TZOFFSETTO:+0200
TZNAME:CEST
DTSTART:20270328T010000
END:DAYLIGHT
BEGIN:STANDARD
TZOFFSETFROM:+0200
TZOFFSETTO:+0100
TZNAME:CET
DTSTART:20271031T010000
END:STANDARD
END:VTIMEZONE
BEGIN:VEVENT
DTSTART;TZID=Europe/Berlin:20260316T090000
DTEND;TZID=Europe/Berlin:20260316T130000
DTSTAMP:20260421T202615
CREATED:20260220T142941Z
LAST-MODIFIED:20260306T123450Z
UID:3571-1773651600-1773666000@iwgrdu.de
SUMMARY:Fight & Write: Selbstverteidigung und Kreatives Schreiben
DESCRIPTION:Fight and Write   \nEin spannendes Workshop-Konzept\, das ich gemeinsam mit der Berliner Trainerin Mailin Rieck entwickelt habe:  \nSelbstverteidigung und Kreatives Schreiben. Junge Menschen erweitern ihre körperlichen und sprachlichen Ausdrucksmöglichkeiten\, setzen Grenzen\, bewältigen Probleme\, vertrauen sich anderen an und machen mit allen Sinnen eine Erfahrung von Selbstwirksamkeit und Handlungsfähigkeit.  \nMehr dazu auf unserer >Website  \nAnmeldung bei\nJulia Rombeck\nJ.Rombeck@stadt-duisburg.de
URL:https://iwgrdu.de/event/fight-write-selbstverteidigung-und-kreatives-schreiben/
LOCATION:Gesamtschule Duisburg Süd\, Großenbaumer Allee 168-174\, Duisburg\, 47269\, Germany
CATEGORIES:Events 2026
ORGANIZER;CN="Amt f%C3%BCr Integration und Einwanderungsservice - Das Kommunale Integrationszenmtrum der Stadt Duisburg":MAILTO:integration@stadt-duisburg.de
END:VEVENT
BEGIN:VEVENT
DTSTART;TZID=Europe/Berlin:20260326T093000
DTEND;TZID=Europe/Berlin:20260326T130000
DTSTAMP:20260421T202615
CREATED:20260211T112557Z
LAST-MODIFIED:20260316T095409Z
UID:3538-1774517400-1774530000@iwgrdu.de
SUMMARY:„Unverpixelter Hass“ Workshop für pädagogische Fachkräfte
DESCRIPTION:Wie nutzen Rechtsextreme Gaming aus und wie können wir dagegen halten?\n \nZiel Gruppe: pädagogische Fachkräfte\, Ehrenamtler und Multiplikatorinnen in der Kinder- und Jugendarbeit \n„Im Workshop geben die Referent*innen vom Projekt „Good Gaming Support“ der Amadeu Antonio Stiftung eine Einordnung zur Relevanz der Gaming-Kultur in der Bildungsarbeit. Wie instrumentalisieren toxische und rechtsextreme Gamerinnen die Videospiel-Kultur? Wie können Gamerinnen effektiv dagegen halten und wie können Pädagoginnen und Eltern mit Chancen und Herausforderungen umgehen? Der Workshop gibt dabei einen längeren Input zu verschiedenen Gaming-Plattformen\, gibt aber auch konkrete Tipps zu Handlungsoptionen und passenden Games für die Bildungsarbeit.“
URL:https://iwgrdu.de/event/workshop-unverpixelter-hass-2/
LOCATION:Blaues Haus Hochfeld\, Sedanstraße 64\, Duisburg\, NRW\, 47053\, Germany
CATEGORIES:Events 2026
ORGANIZER;CN="Amt f%C3%BCr Integration und Einwanderungsservice - Das Kommunale Integrationszenmtrum der Stadt Duisburg":MAILTO:integration@stadt-duisburg.de
END:VEVENT
BEGIN:VEVENT
DTSTART;TZID=Europe/Berlin:20260326T150000
DTEND;TZID=Europe/Berlin:20260326T170000
DTSTAMP:20260421T202615
CREATED:20260211T112517Z
LAST-MODIFIED:20260220T123130Z
UID:3552-1774537200-1774544400@iwgrdu.de
SUMMARY:„Unverpixelter Hass“ Workshop für Kinder und Jugendliche ab 14 Jahren
DESCRIPTION:Einfach nur spielen?\nWorkshop über Politik\, Extremismus und Haltung im Gaming\n \nIn diesem Workshop vom Projekt „Good Gaming Support“ geht es darum\, Gaming nicht nur als Spiel zu erleben\, sondern auch die Hintergründe und Zusammenhänge zu entdecken. Gemeinsam wird geschaut\, wie politische Inhalte\, extremistische Ideen oder gesellschaftliche Themen manchmal in Spielen auftauchen und wie man selbst eine Haltung entwickeln kann.  \nDie Teilnehmenden können Fragen stellen\, Situationen im Spiel diskutieren und lernen\, wie man kritisch und bewusst mit digitalen Inhalten umgeht. Ziel ist es\, Spaß am Spielen zu behalten\, gleichzeitig aber zu erkennen\, welche Botschaften im digitalen Raum verbreitet werden und wie man sich sicher und reflektiert bewegt.  \nAnmeldung bei\nJulia Rombeck\nJ.Rombeck@stadt-duisburg.de \nund  \nKadir Özdemir\nk.oezdemir@stadt-duisburg.de
URL:https://iwgrdu.de/event/workshop-unverpixelter-hass/
LOCATION:Blaues Haus Hochfeld\, Sedanstraße 64\, Duisburg\, NRW\, 47053\, Germany
CATEGORIES:Events 2026
ORGANIZER;CN="Amt f%C3%BCr Integration und Einwanderungsservice - Das Kommunale Integrationszenmtrum der Stadt Duisburg":MAILTO:integration@stadt-duisburg.de
END:VEVENT
END:VCALENDAR